BEGIN:VCALENDAR
VERSION:2.0
PRODID:-//Shane Mitchell Sonksen - ECPv6.15.20//NONSGML v1.0//EN
CALSCALE:GREGORIAN
METHOD:PUBLISH
X-WR-CALNAME:Shane Mitchell Sonksen
X-ORIGINAL-URL:https://shanemitchellsonksen.com
X-WR-CALDESC:Events for Shane Mitchell Sonksen
REFRESH-INTERVAL;VALUE=DURATION:PT1H
X-Robots-Tag:noindex
X-PUBLISHED-TTL:PT1H
BEGIN:VTIMEZONE
TZID:America/Chicago
BEGIN:DAYLIGHT
TZOFFSETFROM:-0600
TZOFFSETTO:-0500
TZNAME:CDT
DTSTART:20250309T080000
END:DAYLIGHT
BEGIN:STANDARD
TZOFFSETFROM:-0500
TZOFFSETTO:-0600
TZNAME:CST
DTSTART:20251102T070000
END:STANDARD
BEGIN:DAYLIGHT
TZOFFSETFROM:-0600
TZOFFSETTO:-0500
TZNAME:CDT
DTSTART:20260308T080000
END:DAYLIGHT
BEGIN:STANDARD
TZOFFSETFROM:-0500
TZOFFSETTO:-0600
TZNAME:CST
DTSTART:20261101T070000
END:STANDARD
BEGIN:DAYLIGHT
TZOFFSETFROM:-0600
TZOFFSETTO:-0500
TZNAME:CDT
DTSTART:20270314T080000
END:DAYLIGHT
BEGIN:STANDARD
TZOFFSETFROM:-0500
TZOFFSETTO:-0600
TZNAME:CST
DTSTART:20271107T070000
END:STANDARD
END:VTIMEZONE
BEGIN:VEVENT
DTSTART;TZID=America/Chicago:20260415T190000
DTEND;TZID=America/Chicago:20260415T220000
DTSTAMP:20260422T174544
CREATED:20260409T172423Z
LAST-MODIFIED:20260409T172423Z
UID:798-1776279600-1776290400@shanemitchellsonksen.com
SUMMARY:Soundhaus "Dust Road Revival"
DESCRIPTION:Come out to the Duck Room in University City for the monthly Soundhaus music event! This month’s theme is Americana genre with a 30 song lineup. I will be performing electric or acoustic guitar for the following 3 songs: \n– Slow Dancing in a Burning Room – John Mayer \n– Wide Open Spaces – Dixie Chicks \n– Mellissa – Allman Brothers
URL:https://shanemitchellsonksen.com/event/soundhaus-dust-road-revival/
LOCATION:The Duck Room\, 6504 Delmar Blvd\, University City\, MO\, 63130\, United States
CATEGORIES:SoundHaus
ORGANIZER;CN="SoundHaus":MAILTO:support@soundhaus.live
END:VEVENT
END:VCALENDAR