BEGIN:VCALENDAR
VERSION:2.0
PRODID:-//Shane Mitchell Sonksen - ECPv6.15.20//NONSGML v1.0//EN
CALSCALE:GREGORIAN
METHOD:PUBLISH
X-WR-CALNAME:Shane Mitchell Sonksen
X-ORIGINAL-URL:https://shanemitchellsonksen.com
X-WR-CALDESC:Events for Shane Mitchell Sonksen
REFRESH-INTERVAL;VALUE=DURATION:PT1H
X-Robots-Tag:noindex
X-PUBLISHED-TTL:PT1H
BEGIN:VTIMEZONE
TZID:America/Chicago
BEGIN:DAYLIGHT
TZOFFSETFROM:-0600
TZOFFSETTO:-0500
TZNAME:CDT
DTSTART:20250309T080000
END:DAYLIGHT
BEGIN:STANDARD
TZOFFSETFROM:-0500
TZOFFSETTO:-0600
TZNAME:CST
DTSTART:20251102T070000
END:STANDARD
BEGIN:DAYLIGHT
TZOFFSETFROM:-0600
TZOFFSETTO:-0500
TZNAME:CDT
DTSTART:20260308T080000
END:DAYLIGHT
BEGIN:STANDARD
TZOFFSETFROM:-0500
TZOFFSETTO:-0600
TZNAME:CST
DTSTART:20261101T070000
END:STANDARD
BEGIN:DAYLIGHT
TZOFFSETFROM:-0600
TZOFFSETTO:-0500
TZNAME:CDT
DTSTART:20270314T080000
END:DAYLIGHT
BEGIN:STANDARD
TZOFFSETFROM:-0500
TZOFFSETTO:-0600
TZNAME:CST
DTSTART:20271107T070000
END:STANDARD
END:VTIMEZONE
BEGIN:VEVENT
DTSTART;TZID=America/Chicago:20260211T190000
DTEND;TZID=America/Chicago:20260211T223000
DTSTAMP:20260422T073803
CREATED:20260209T155104Z
LAST-MODIFIED:20260209T155104Z
UID:783-1770836400-1770849000@shanemitchellsonksen.com
SUMMARY:Open Mic - Quintessential Dining & Nightlife
DESCRIPTION:Come over to old town St. Charles\, MO to the Quintessential Dining & Nightlife restaurant on Wednesday. I will be playing a handful of songs (some of mine as well). Other St. Louis musicians will also be performing some of their selected songs\, so come out and support your local artists!
URL:https://shanemitchellsonksen.com/event/open-mic-quintessential-dining-nightlife/
LOCATION:Quintessential Dining & Nightlife\, 149 N Main St\, St Charles\, MO\, 63301\, United States
CATEGORIES:Open Mic
ORGANIZER;CN="Quintessential Dining & Nightlife":MAILTO:events@q-stc.com
END:VEVENT
END:VCALENDAR